BEGIN:VCALENDAR
CALSCALE:GREGORIAN
PRODID:-//Ben Fortuna//iCal4j 1.0//EN
VERSION:2.0
BEGIN:VEVENT
DTSTAMP:20260126T160014Z
DTSTART:20260129T120000
DTEND:20260129T140000
SUMMARY:Lunch\n\nVSA lunch at Capitol Plaza - Room 45
TZID:America/New_York
UID:20260126T160037Z-uidGen@richgoldman-357e73
END:VEVENT
BEGIN:VALARM
TRIGGER:-PT15M
ACTION:DISPLAY
DESCRIPTION:Lunch\n\nVSA lunch at Capitol Plaza - Room 45
END:VALARM
END:VCALENDAR
