BEGIN:VCALENDAR
CALSCALE:GREGORIAN
PRODID:-//Ben Fortuna//iCal4j 1.0//EN
VERSION:2.0
BEGIN:VEVENT
DTSTAMP:20260125T210243Z
DTSTART:20260129T114500
DTEND:20260129T134500
SUMMARY:Mental Health Advocacy Day\n\nCari Kelley\, Mental Health Advocat
 e - Room 17
TZID:America/New_York
UID:20260125T210247Z-uidGen@richgoldman-357e73
END:VEVENT
BEGIN:VALARM
TRIGGER:-PT15M
ACTION:DISPLAY
DESCRIPTION:Mental Health Advocacy Day\n\nCari Kelley\, Mental Health Adv
 ocate - Room 17
END:VALARM
END:VCALENDAR
