BEGIN:VCALENDAR
CALSCALE:GREGORIAN
PRODID:-//Ben Fortuna//iCal4j 1.0//EN
VERSION:2.0
BEGIN:VEVENT
DTSTAMP:20260125T060514Z
DTSTART:20260129T113000
DTEND:20260129T133000
SUMMARY:Mental Health Advocacy Day\n\nRichard Fales\, Community Member\, 
 Rutland City - Room 34
TZID:America/New_York
UID:20260125T061616Z-uidGen@richgoldman-357e73
END:VEVENT
BEGIN:VALARM
TRIGGER:-PT15M
ACTION:DISPLAY
DESCRIPTION:Mental Health Advocacy Day\n\nRichard Fales\, Community Membe
 r\, Rutland City - Room 34
END:VALARM
END:VCALENDAR
