BEGIN:VCALENDAR
CALSCALE:GREGORIAN
PRODID:-//Ben Fortuna//iCal4j 1.0//EN
VERSION:2.0
BEGIN:VEVENT
DTSTAMP:20260128T150030Z
DTSTART:20260129T111500
DTEND:20260129T131500
SUMMARY:S. 163 - An act relating to the role of advanced practice registe
 red nurses in hospital care\n\nMarkup and Possible Vote\n\nJennifer Carb
 ee\, Deputy Chief Counsel\, Office of Legislative Counsel\n\nJen Colin\,
  Director\, Office of Professional Regulation\, Secretary of State's Off
 ice\n\nLauren Hibbert\, Deputy Secretary of State\, Secretary of State's
  Office - Room 17
TZID:America/New_York
UID:20260128T150143Z-uidGen@richgoldman-357e73
END:VEVENT
BEGIN:VALARM
TRIGGER:-PT15M
ACTION:DISPLAY
DESCRIPTION:S. 163 - An act relating to the role of advanced practice reg
 istered nurses in hospital care\n\nMarkup and Possible Vote\n\nJennifer 
 Carbee\, Deputy Chief Counsel\, Office of Legislative Counsel\n\nJen Col
 in\, Director\, Office of Professional Regulation\, Secretary of State's
  Office\n\nLauren Hibbert\, Deputy Secretary of State\, Secretary of Sta
 te's Office - Room 17
END:VALARM
END:VCALENDAR
