BEGIN:VCALENDAR
CALSCALE:GREGORIAN
PRODID:-//Ben Fortuna//iCal4j 1.0//EN
VERSION:2.0
BEGIN:VEVENT
DTSTAMP:20260126T160014Z
DTSTART:20260129T111500
DTEND:20260129T131500
SUMMARY:H. 757 - An act relating to manufactured homes and limited equity
  cooperatives\n\nFiscal note discussion and possible vote\n\nTed Barnett
 \, Fiscal Analyst\, Joint Fiscal Office - Room 31
TZID:America/New_York
UID:20260126T160035Z-uidGen@richgoldman-357e73
END:VEVENT
BEGIN:VALARM
TRIGGER:-PT15M
ACTION:DISPLAY
DESCRIPTION:H. 757 - An act relating to manufactured homes and limited eq
 uity cooperatives\n\nFiscal note discussion and possible vote\n\nTed Bar
 nett\, Fiscal Analyst\, Joint Fiscal Office - Room 31
END:VALARM
END:VCALENDAR
