BEGIN:VCALENDAR
CALSCALE:GREGORIAN
PRODID:-//Ben Fortuna//iCal4j 1.0//EN
VERSION:2.0
BEGIN:VEVENT
DTSTAMP:20260126T170013Z
DTSTART:20260129T111500
DTEND:20260129T131500
SUMMARY:Identifying Students from Economically Disadvantaged Backgrounds\
 n\nRosie Krueger\, State Director of Child Nutrition Programs\, Agency o
 f Education\n\nJennifer Hicks\, Data Management and Analysis Division Di
 rector\, Agency of Education - Room 45
TZID:America/New_York
UID:20260126T170022Z-uidGen@richgoldman-357e73
END:VEVENT
BEGIN:VALARM
TRIGGER:-PT15M
ACTION:DISPLAY
DESCRIPTION:Identifying Students from Economically Disadvantaged Backgrou
 nds\n\nRosie Krueger\, State Director of Child Nutrition Programs\, Agen
 cy of Education\n\nJennifer Hicks\, Data Management and Analysis Divisio
 n Director\, Agency of Education - Room 45
END:VALARM
END:VCALENDAR
