BEGIN:VCALENDAR
CALSCALE:GREGORIAN
PRODID:-//Ben Fortuna//iCal4j 1.0//EN
VERSION:2.0
BEGIN:VEVENT
DTSTAMP:20260125T060514Z
DTSTART:20260129T110000
DTEND:20260129T130000
SUMMARY:Capital Budget Adjustment\n\nSection 17 - Historical Society\n\nS
 teve Perkins\, Executive Director\, Vermont Historical Society - Room 34
 
TZID:America/New_York
UID:20260125T061553Z-uidGen@richgoldman-357e73
END:VEVENT
BEGIN:VALARM
TRIGGER:-PT15M
ACTION:DISPLAY
DESCRIPTION:Capital Budget Adjustment\n\nSection 17 - Historical Society\
 n\nSteve Perkins\, Executive Director\, Vermont Historical Society - Roo
 m 34
END:VALARM
END:VCALENDAR
