BEGIN:VCALENDAR
CALSCALE:GREGORIAN
PRODID:-//Ben Fortuna//iCal4j 1.0//EN
VERSION:2.0
BEGIN:VEVENT
DTSTAMP:20260125T060514Z
DTSTART:20260129T110000
DTEND:20260129T130000
SUMMARY:Security Training\n\nThis will not be livestreamed due to sensiti
 ve content.\n\nAgatha Kessler\, Sergeant at Arms\, Vermont General Assem
 bly\n\nJohn Poleway\, Chief of Capitol Police\, Capitol Police Departmen
 t\n\nSara Macera\, Sergeant\, Capitol Police Department\n\nJoe Tremblay\
 , Officer\, Capitol Police Department - Room 46
TZID:America/New_York
UID:20260125T061603Z-uidGen@richgoldman-357e73
END:VEVENT
BEGIN:VALARM
TRIGGER:-PT15M
ACTION:DISPLAY
DESCRIPTION:Security Training\n\nThis will not be livestreamed due to sen
 sitive content.\n\nAgatha Kessler\, Sergeant at Arms\, Vermont General A
 ssembly\n\nJohn Poleway\, Chief of Capitol Police\, Capitol Police Depar
 tment\n\nSara Macera\, Sergeant\, Capitol Police Department\n\nJoe Tremb
 lay\, Officer\, Capitol Police Department - Room 46
END:VALARM
END:VCALENDAR
