BEGIN:VCALENDAR
CALSCALE:GREGORIAN
PRODID:-//Ben Fortuna//iCal4j 1.0//EN
VERSION:2.0
BEGIN:VEVENT
DTSTAMP:20260125T060514Z
DTSTART:20260129T111500
DTEND:20260129T131500
SUMMARY:Agency of Transportation Updates\n\nSection 28 of Act 148 2024\, 
 Mobility Services Guide\n\nRoss MacDonald\, Public Transit Program Manag
 er\, Agency of Transportation\n\nDan Currier\, Public Transit Coordinato
 r\, Agency of Transportation - Room 43
TZID:America/New_York
UID:20260125T061608Z-uidGen@richgoldman-357e73
END:VEVENT
BEGIN:VALARM
TRIGGER:-PT15M
ACTION:DISPLAY
DESCRIPTION:Agency of Transportation Updates\n\nSection 28 of Act 148 202
 4\, Mobility Services Guide\n\nRoss MacDonald\, Public Transit Program M
 anager\, Agency of Transportation\n\nDan Currier\, Public Transit Coordi
 nator\, Agency of Transportation - Room 43
END:VALARM
END:VCALENDAR
