BEGIN:VCALENDAR
CALSCALE:GREGORIAN
PRODID:-//Ben Fortuna//iCal4j 1.0//EN
VERSION:2.0
BEGIN:VEVENT
DTSTAMP:20260125T060514Z
DTSTART:20260129T110000
DTEND:20260129T130000
SUMMARY:H. 639 - An act relating to genetic data privacy\n\nTestimony\n\n
 Todd Daloz\, Director of Policy and Legislative Affairs\, Attorney Gener
 al's Office - Invited\n\nWitnesses TBD - Room 35
TZID:America/New_York
UID:20260125T061551Z-uidGen@richgoldman-357e73
END:VEVENT
BEGIN:VALARM
TRIGGER:-PT15M
ACTION:DISPLAY
DESCRIPTION:H. 639 - An act relating to genetic data privacy\n\nTestimony
 \n\nTodd Daloz\, Director of Policy and Legislative Affairs\, Attorney G
 eneral's Office - Invited\n\nWitnesses TBD - Room 35
END:VALARM
END:VCALENDAR
