BEGIN:VCALENDAR
CALSCALE:GREGORIAN
PRODID:-//Ben Fortuna//iCal4j 1.0//EN
VERSION:2.0
BEGIN:VEVENT
DTSTAMP:20260126T210017Z
DTSTART:20260129T110000
DTEND:20260129T130000
SUMMARY:H. 585 - An act relating to health insurance reforms\n\nTestimony
 \n\nOwen Foster\, J.D.\, Chair\, Green Mountain Care Board\n\nEmily Brow
 n\, Exective Director\, Green Mountain Care Board\n\nCourtney Harrness\,
  Director of Legislative and Government Relations\, Blue Cross Blue Shie
 ld of Vermont - Room 42
TZID:America/New_York
UID:20260126T210036Z-uidGen@richgoldman-357e73
END:VEVENT
BEGIN:VALARM
TRIGGER:-PT15M
ACTION:DISPLAY
DESCRIPTION:H. 585 - An act relating to health insurance reforms\n\nTesti
 mony\n\nOwen Foster\, J.D.\, Chair\, Green Mountain Care Board\n\nEmily 
 Brown\, Exective Director\, Green Mountain Care Board\n\nCourtney Harrne
 ss\, Director of Legislative and Government Relations\, Blue Cross Blue 
 Shield of Vermont - Room 42
END:VALARM
END:VCALENDAR
