BEGIN:VCALENDAR
CALSCALE:GREGORIAN
PRODID:-//Ben Fortuna//iCal4j 1.0//EN
VERSION:2.0
BEGIN:VEVENT
DTSTAMP:20260128T150030Z
DTSTART:20260129T103000
DTEND:20260129T123000
SUMMARY:H. 757 - An act relating to manufactured homes and limited equity
  cooperatives\n\nCommittee discussion and potential mark-up\n\nCameron W
 ood\, Legislative Counsel\, Office of Legislative Counsel - Room 31
TZID:America/New_York
UID:20260128T150133Z-uidGen@richgoldman-357e73
END:VEVENT
BEGIN:VALARM
TRIGGER:-PT15M
ACTION:DISPLAY
DESCRIPTION:H. 757 - An act relating to manufactured homes and limited eq
 uity cooperatives\n\nCommittee discussion and potential mark-up\n\nCamer
 on Wood\, Legislative Counsel\, Office of Legislative Counsel - Room 31
END:VALARM
END:VCALENDAR
