BEGIN:VCALENDAR
CALSCALE:GREGORIAN
PRODID:-//Ben Fortuna//iCal4j 1.0//EN
VERSION:2.0
BEGIN:VEVENT
DTSTAMP:20260125T060514Z
DTSTART:20260129T102000
DTEND:20260129T122000
SUMMARY:H. 757 - An act relating to manufactured homes and limited equity
  cooperatives\n\nCommittee Discussion and Possible Vote - Room 31
TZID:America/New_York
UID:20260125T061527Z-uidGen@richgoldman-357e73
END:VEVENT
BEGIN:VALARM
TRIGGER:-PT15M
ACTION:DISPLAY
DESCRIPTION:H. 757 - An act relating to manufactured homes and limited eq
 uity cooperatives\n\nCommittee Discussion and Possible Vote - Room 31
END:VALARM
END:VCALENDAR
