BEGIN:VCALENDAR
CALSCALE:GREGORIAN
PRODID:-//Ben Fortuna//iCal4j 1.0//EN
VERSION:2.0
BEGIN:VEVENT
DTSTAMP:20260125T060514Z
DTSTART:20260129T101500
DTEND:20260129T121500
SUMMARY:S. 190 - An act relating to the Green Mountain Care Board\, refer
 ence-based pricing\, and hospital outsourcing of clinical care\n\nJennif
 er Carbee\, Deputy Chief Counsel\, Office of Legislative Counsel\n\nDevo
 n Green\, Senior Vice President of Policy and Strategy\, Vermont Associa
 tion of Hospitals and Health Systems\n\nAlena Berube\, Director of Polic
 y\, Green Mountain Care Board\n\nEmily Brown\, Exective Director\, Green
  Mountain Care Board - Room 17
TZID:America/New_York
UID:20260125T061525Z-uidGen@richgoldman-357e73
END:VEVENT
BEGIN:VALARM
TRIGGER:-PT15M
ACTION:DISPLAY
DESCRIPTION:S. 190 - An act relating to the Green Mountain Care Board\, r
 eference-based pricing\, and hospital outsourcing of clinical care\n\nJe
 nnifer Carbee\, Deputy Chief Counsel\, Office of Legislative Counsel\n\n
 Devon Green\, Senior Vice President of Policy and Strategy\, Vermont Ass
 ociation of Hospitals and Health Systems\n\nAlena Berube\, Director of P
 olicy\, Green Mountain Care Board\n\nEmily Brown\, Exective Director\, G
 reen Mountain Care Board - Room 17
END:VALARM
END:VCALENDAR
