BEGIN:VCALENDAR
CALSCALE:GREGORIAN
PRODID:-//Ben Fortuna//iCal4j 1.0//EN
VERSION:2.0
BEGIN:VEVENT
DTSTAMP:20260125T060514Z
DTSTART:20260129T103000
DTEND:20260129T123000
SUMMARY:Agency of Transportation FY27 Budget\n\nProject Priorization and 
 Budget Programming\n\nJeremy Reed\, Chief Engineer of the Highway Divisi
 on\, Agency of Transportation - Room 43
TZID:America/New_York
UID:20260125T061532Z-uidGen@richgoldman-357e73
END:VEVENT
BEGIN:VALARM
TRIGGER:-PT15M
ACTION:DISPLAY
DESCRIPTION:Agency of Transportation FY27 Budget\n\nProject Priorization 
 and Budget Programming\n\nJeremy Reed\, Chief Engineer of the Highway Di
 vision\, Agency of Transportation - Room 43
END:VALARM
END:VCALENDAR
