BEGIN:VCALENDAR
CALSCALE:GREGORIAN
PRODID:-//Ben Fortuna//iCal4j 1.0//EN
VERSION:2.0
BEGIN:VEVENT
DTSTAMP:20260125T060514Z
DTSTART:20260129T101500
DTEND:20260129T121500
SUMMARY:26-0727 - An act relating to miscellaneous administrative and pol
 icy changes to the tax laws\n\nDowntown and Village Center Tax Credit\n\
 nBen Doyle\, President\, Preservation Trust of Vermont\n\nCaitlin Corkin
 s\, Tax Credit and Grants Coordinator\, Department of Housing and Commun
 ity Development - Invited - Room 45
TZID:America/New_York
UID:20260125T061522Z-uidGen@richgoldman-357e73
END:VEVENT
BEGIN:VALARM
TRIGGER:-PT15M
ACTION:DISPLAY
DESCRIPTION:26-0727 - An act relating to miscellaneous administrative and
  policy changes to the tax laws\n\nDowntown and Village Center Tax Credi
 t\n\nBen Doyle\, President\, Preservation Trust of Vermont\n\nCaitlin Co
 rkins\, Tax Credit and Grants Coordinator\, Department of Housing and Co
 mmunity Development - Invited - Room 45
END:VALARM
END:VCALENDAR
