BEGIN:VCALENDAR
CALSCALE:GREGORIAN
PRODID:-//Ben Fortuna//iCal4j 1.0//EN
VERSION:2.0
BEGIN:VEVENT
DTSTAMP:20260125T060514Z
DTSTART:20260129T100000
DTEND:20260129T120000
SUMMARY:Capital Budget Adjustment\n\nSection 13\n\nJennifer Morrison\, Co
 mmissioner\, Department of Public Safety\n\nDaniel Batsie\, Deputy Commi
 ssioner\, Department of Public Safety\n\nRichard Hallenbeck\, Director o
 f Finance and Administration\, Department of Public Safety\n\nJoe Aja\, 
 Director Design & Construction\, Department of Buildings and General Ser
 vices - Room 34
TZID:America/New_York
UID:20260125T061500Z-uidGen@richgoldman-357e73
END:VEVENT
BEGIN:VALARM
TRIGGER:-PT15M
ACTION:DISPLAY
DESCRIPTION:Capital Budget Adjustment\n\nSection 13\n\nJennifer Morrison\
 , Commissioner\, Department of Public Safety\n\nDaniel Batsie\, Deputy C
 ommissioner\, Department of Public Safety\n\nRichard Hallenbeck\, Direct
 or of Finance and Administration\, Department of Public Safety\n\nJoe Aj
 a\, Director Design & Construction\, Department of Buildings and General
  Services - Room 34
END:VALARM
END:VCALENDAR
