BEGIN:VCALENDAR
CALSCALE:GREGORIAN
PRODID:-//Ben Fortuna//iCal4j 1.0//EN
VERSION:2.0
BEGIN:VEVENT
DTSTAMP:20260127T170014Z
DTSTART:20260129T100000
DTEND:20260129T120000
SUMMARY:Capital Budget Adjustment\n\nSection 13 - Department of Public Sa
 fety\n\nJennifer Morrison\, Commissioner\, Department of Public Safety\n
 \nDaniel Batsie\, Deputy Commissioner\, Department of Public Safety\n\nR
 ichard Hallenbeck\, Director of Finance and Administration\, Department 
 of Public Safety\n\nMichael Manley\, Captain\, Department of Public Safe
 ty\n\nJoe Aja\, Director Design & Construction\, Department of Buildings
  and General Services - Room 34
TZID:America/New_York
UID:20260127T170100Z-uidGen@richgoldman-357e73
END:VEVENT
BEGIN:VALARM
TRIGGER:-PT15M
ACTION:DISPLAY
DESCRIPTION:Capital Budget Adjustment\n\nSection 13 - Department of Publi
 c Safety\n\nJennifer Morrison\, Commissioner\, Department of Public Safe
 ty\n\nDaniel Batsie\, Deputy Commissioner\, Department of Public Safety\
 n\nRichard Hallenbeck\, Director of Finance and Administration\, Departm
 ent of Public Safety\n\nMichael Manley\, Captain\, Department of Public 
 Safety\n\nJoe Aja\, Director Design & Construction\, Department of Build
 ings and General Services - Room 34
END:VALARM
END:VCALENDAR
