BEGIN:VCALENDAR
CALSCALE:GREGORIAN
PRODID:-//Ben Fortuna//iCal4j 1.0//EN
VERSION:2.0
BEGIN:VEVENT
DTSTAMP:20260125T060514Z
DTSTART:20260129T101500
DTEND:20260129T121500
SUMMARY:Agency of Transportation Updates\n\nSection 16 of Act 43 2025\, M
 unicipal Grant Efficiencies Report\n\nJeremy Reed\, Chief Engineer of th
 e Highway Division\, Agency of Transportation - Room 43
TZID:America/New_York
UID:20260125T061520Z-uidGen@richgoldman-357e73
END:VEVENT
BEGIN:VALARM
TRIGGER:-PT15M
ACTION:DISPLAY
DESCRIPTION:Agency of Transportation Updates\n\nSection 16 of Act 43 2025
 \, Municipal Grant Efficiencies Report\n\nJeremy Reed\, Chief Engineer o
 f the Highway Division\, Agency of Transportation - Room 43
END:VALARM
END:VCALENDAR
