BEGIN:VCALENDAR
CALSCALE:GREGORIAN
PRODID:-//Ben Fortuna//iCal4j 1.0//EN
VERSION:2.0
BEGIN:VEVENT
DTSTAMP:20260127T200014Z
DTSTART:20260129T100000
DTEND:20260129T120000
SUMMARY:26-0743 - An act relating to miscellaneous amendments to laws rel
 ating to motor vehicles\n\nSection 5\n\nLt. Paul Ravelin\, VSP Safety Pr
 ograms Unit Commander\, Department of Public Safety - Room 3
TZID:America/New_York
UID:20260127T200112Z-uidGen@richgoldman-357e73
END:VEVENT
BEGIN:VALARM
TRIGGER:-PT15M
ACTION:DISPLAY
DESCRIPTION:26-0743 - An act relating to miscellaneous amendments to laws
  relating to motor vehicles\n\nSection 5\n\nLt. Paul Ravelin\, VSP Safet
 y Programs Unit Commander\, Department of Public Safety - Room 3
END:VALARM
END:VCALENDAR
