BEGIN:VCALENDAR
CALSCALE:GREGORIAN
PRODID:-//Ben Fortuna//iCal4j 1.0//EN
VERSION:2.0
BEGIN:VEVENT
DTSTAMP:20260125T060514Z
DTSTART:20260129T100000
DTEND:20260129T120000
SUMMARY:Higher Education Endowment Trust Fund\n\nStatute Walk-through\n\n
 Witness TBA - Room 35
TZID:America/New_York
UID:20260125T061459Z-uidGen@richgoldman-357e73
END:VEVENT
BEGIN:VALARM
TRIGGER:-PT15M
ACTION:DISPLAY
DESCRIPTION:Higher Education Endowment Trust Fund\n\nStatute Walk-through
 \n\nWitness TBA - Room 35
END:VALARM
END:VCALENDAR
