BEGIN:VCALENDAR
CALSCALE:GREGORIAN
PRODID:-//Ben Fortuna//iCal4j 1.0//EN
VERSION:2.0
BEGIN:VEVENT
DTSTAMP:20260127T150030Z
DTSTART:20260129T100000
DTEND:20260129T120000
SUMMARY:Higher Education Endowment Trust Fund\n\nJoint Hearing with the H
 ouse Committee on Education from 10:00 - 11:00 a.m. in Room 11 of the St
 ate House. This will be livestreamed from the House Committee on Commerc
 e and Economic Development's YouTube.\n\nWitness TBA - Room 35
TZID:America/New_York
UID:20260127T150118Z-uidGen@richgoldman-357e73
END:VEVENT
BEGIN:VALARM
TRIGGER:-PT15M
ACTION:DISPLAY
DESCRIPTION:Higher Education Endowment Trust Fund\n\nJoint Hearing with t
 he House Committee on Education from 10:00 - 11:00 a.m. in Room 11 of th
 e State House. This will be livestreamed from the House Committee on Com
 merce and Economic Development's YouTube.\n\nWitness TBA - Room 35
END:VALARM
END:VCALENDAR
