BEGIN:VCALENDAR
CALSCALE:GREGORIAN
PRODID:-//Ben Fortuna//iCal4j 1.0//EN
VERSION:2.0
BEGIN:VEVENT
DTSTAMP:20260127T230013Z
DTSTART:20260129T100000
DTEND:20260129T120000
SUMMARY:H. 757 - An act relating to manufactured homes and limited equity
  cooperatives\n\nCommittee discussion and potential mark-up\n\nWitness T
 BA\, Secretary of State's Office - Invited\n\nCameron Wood\, Legislative
  Counsel\, Office of Legislative Counsel - Invited - Room 31
TZID:America/New_York
UID:20260127T230103Z-uidGen@richgoldman-357e73
END:VEVENT
BEGIN:VALARM
TRIGGER:-PT15M
ACTION:DISPLAY
DESCRIPTION:H. 757 - An act relating to manufactured homes and limited eq
 uity cooperatives\n\nCommittee discussion and potential mark-up\n\nWitne
 ss TBA\, Secretary of State's Office - Invited\n\nCameron Wood\, Legisla
 tive Counsel\, Office of Legislative Counsel - Invited - Room 31
END:VALARM
END:VCALENDAR
