BEGIN:VCALENDAR
CALSCALE:GREGORIAN
PRODID:-//Ben Fortuna//iCal4j 1.0//EN
VERSION:2.0
BEGIN:VEVENT
DTSTAMP:20260125T060514Z
DTSTART:20260129T110000
DTEND:20260129T130000
SUMMARY:26-0726 - An act relating to copper-based to fiber-based network 
 transitions and battery backup requirements\n\nFeedback\n\nBarbara Neal\
 , Director\, Vermont Enhanced 911 Board - Room 32
TZID:America/New_York
UID:20260125T061554Z-uidGen@richgoldman-357e73
END:VEVENT
BEGIN:VALARM
TRIGGER:-PT15M
ACTION:DISPLAY
DESCRIPTION:26-0726 - An act relating to copper-based to fiber-based netw
 ork transitions and battery backup requirements\n\nFeedback\n\nBarbara N
 eal\, Director\, Vermont Enhanced 911 Board - Room 32
END:VALARM
END:VCALENDAR
