BEGIN:VCALENDAR
CALSCALE:GREGORIAN
PRODID:-//Ben Fortuna//iCal4j 1.0//EN
VERSION:2.0
BEGIN:VEVENT
DTSTAMP:20260125T060514Z
DTSTART:20260129T100000
DTEND:20260129T120000
SUMMARY:Budget Presentation\n\nDr. Rick Hildebrant\, MD\, Commissioner\, 
 Department of Health\n\nMegan Hoke\, Financial Director\, Department of 
 Health - Room 42
TZID:America/New_York
UID:20260125T061507Z-uidGen@richgoldman-357e73
END:VEVENT
BEGIN:VALARM
TRIGGER:-PT15M
ACTION:DISPLAY
DESCRIPTION:Budget Presentation\n\nDr. Rick Hildebrant\, MD\, Commissione
 r\, Department of Health\n\nMegan Hoke\, Financial Director\, Department
  of Health - Room 42
END:VALARM
END:VCALENDAR
