BEGIN:VCALENDAR
CALSCALE:GREGORIAN
PRODID:-//Ben Fortuna//iCal4j 1.0//EN
VERSION:2.0
BEGIN:VEVENT
DTSTAMP:20260127T170014Z
DTSTART:20260129T100000
DTEND:20260129T120000
SUMMARY:Governor's Proposed FY2027 Budget\n\nDepartment of Health\n\nDr. 
 Rick Hildebrant\, MD\, Commissioner\, Department of Health\n\nMegan Hoke
 \, Financial Director\, Department of Health - Room 42
TZID:America/New_York
UID:20260127T170104Z-uidGen@richgoldman-357e73
END:VEVENT
BEGIN:VALARM
TRIGGER:-PT15M
ACTION:DISPLAY
DESCRIPTION:Governor's Proposed FY2027 Budget\n\nDepartment of Health\n\n
 Dr. Rick Hildebrant\, MD\, Commissioner\, Department of Health\n\nMegan 
 Hoke\, Financial Director\, Department of Health - Room 42
END:VALARM
END:VCALENDAR
