BEGIN:VCALENDAR
CALSCALE:GREGORIAN
PRODID:-//Ben Fortuna//iCal4j 1.0//EN
VERSION:2.0
BEGIN:VEVENT
DTSTAMP:20260127T160015Z
DTSTART:20260129T100000
DTEND:20260129T120000
SUMMARY:Salvation Farms\n\nUpdate\n\nKelly Dolan\, Director\, Salvation F
 arms\n\nKyle Moore\, Vermont Department of Corrections - Invited - Room 
 28
TZID:America/New_York
UID:20260127T160106Z-uidGen@richgoldman-357e73
END:VEVENT
BEGIN:VALARM
TRIGGER:-PT15M
ACTION:DISPLAY
DESCRIPTION:Salvation Farms\n\nUpdate\n\nKelly Dolan\, Director\, Salvati
 on Farms\n\nKyle Moore\, Vermont Department of Corrections - Invited - R
 oom 28
END:VALARM
END:VCALENDAR
