BEGIN:VCALENDAR
CALSCALE:GREGORIAN
PRODID:-//Ben Fortuna//iCal4j 1.0//EN
VERSION:2.0
BEGIN:VEVENT
DTSTAMP:20260128T160014Z
DTSTART:20260129T100000
DTEND:20260129T120000
SUMMARY:26-0553 - An act relating to miscellaneous agricultural subjects\
 n\nAbbey Willard\, Director\, Agricultural Development Division\, Agency
  of Agriculture\, Food and Markets\n\nSteve Collier\, General Counsel\, 
 Agency of Agriculture\, Food and Markets - Room 28
TZID:America/New_York
UID:20260128T160103Z-uidGen@richgoldman-357e73
END:VEVENT
BEGIN:VALARM
TRIGGER:-PT15M
ACTION:DISPLAY
DESCRIPTION:26-0553 - An act relating to miscellaneous agricultural subje
 cts\n\nAbbey Willard\, Director\, Agricultural Development Division\, Ag
 ency of Agriculture\, Food and Markets\n\nSteve Collier\, General Counse
 l\, Agency of Agriculture\, Food and Markets - Room 28
END:VALARM
END:VCALENDAR
