BEGIN:VCALENDAR
CALSCALE:GREGORIAN
PRODID:-//Ben Fortuna//iCal4j 1.0//EN
VERSION:2.0
BEGIN:VEVENT
DTSTAMP:20260125T060514Z
DTSTART:20260129T100000
DTEND:20260129T120000
SUMMARY:Agency of Transportation Updates\n\nSection 14 of Act 43 2025: Mu
 nicipal Grant Payback Report\n\nJeremy Reed\, Chief Engineer of the High
 way Division\, Agency of Transportation - Room 43
TZID:America/New_York
UID:20260125T061508Z-uidGen@richgoldman-357e73
END:VEVENT
BEGIN:VALARM
TRIGGER:-PT15M
ACTION:DISPLAY
DESCRIPTION:Agency of Transportation Updates\n\nSection 14 of Act 43 2025
 : Municipal Grant Payback Report\n\nJeremy Reed\, Chief Engineer of the 
 Highway Division\, Agency of Transportation - Room 43
END:VALARM
END:VCALENDAR
