BEGIN:VCALENDAR
CALSCALE:GREGORIAN
PRODID:-//Ben Fortuna//iCal4j 1.0//EN
VERSION:2.0
BEGIN:VEVENT
DTSTAMP:20260127T230013Z
DTSTART:20260129T094500
DTEND:20260129T114500
SUMMARY:26-0743 - An act relating to miscellaneous amendments to laws rel
 ating to motor vehicles\n\nSection 5\n\nLt. Paul Ravelin\, VSP Safety Pr
 ograms Unit Commander\, Department of Public Safety\n\nGreg Young\, Work
  Program Coordinator\, Vermont Correctional Industries - Invited - Room 
 3
TZID:America/New_York
UID:20260127T230101Z-uidGen@richgoldman-357e73
END:VEVENT
BEGIN:VALARM
TRIGGER:-PT15M
ACTION:DISPLAY
DESCRIPTION:26-0743 - An act relating to miscellaneous amendments to laws
  relating to motor vehicles\n\nSection 5\n\nLt. Paul Ravelin\, VSP Safet
 y Programs Unit Commander\, Department of Public Safety\n\nGreg Young\, 
 Work Program Coordinator\, Vermont Correctional Industries - Invited - R
 oom 3
END:VALARM
END:VCALENDAR
