BEGIN:VCALENDAR
CALSCALE:GREGORIAN
PRODID:-//Ben Fortuna//iCal4j 1.0//EN
VERSION:2.0
BEGIN:VEVENT
DTSTAMP:20260127T180015Z
DTSTART:20260129T093000
DTEND:20260129T113000
SUMMARY:Break - Room 3
TZID:America/New_York
UID:20260127T180035Z-uidGen@richgoldman-357e73
END:VEVENT
BEGIN:VALARM
TRIGGER:-PT15M
ACTION:DISPLAY
DESCRIPTION:Break - Room 3
END:VALARM
END:VCALENDAR
