BEGIN:VCALENDAR
CALSCALE:GREGORIAN
PRODID:-//Ben Fortuna//iCal4j 1.0//EN
VERSION:2.0
BEGIN:VEVENT
DTSTAMP:20260125T060514Z
DTSTART:20260129T103000
DTEND:20260129T123000
SUMMARY:H. 710 - An act relating to defining electricity generating facil
 ities\n\nCommittee Discussion\, Potential Vote - Room 32
TZID:America/New_York
UID:20260125T061529Z-uidGen@richgoldman-357e73
END:VEVENT
BEGIN:VALARM
TRIGGER:-PT15M
ACTION:DISPLAY
DESCRIPTION:H. 710 - An act relating to defining electricity generating f
 acilities\n\nCommittee Discussion\, Potential Vote - Room 32
END:VALARM
END:VCALENDAR
