BEGIN:VCALENDAR
CALSCALE:GREGORIAN
PRODID:-//Ben Fortuna//iCal4j 1.0//EN
VERSION:2.0
BEGIN:VEVENT
DTSTAMP:20260127T160015Z
DTSTART:20260129T091500
DTEND:20260129T111500
SUMMARY:S. 172 - An act relating to requiring the use of personal flotati
 on devices during cold weather\n\nSen. Rebecca "Becca" White\, Sponsor\n
 \nDamien Leonard\, Legislative Counsel\, Office of Legislative Counsel -
  Invited\n\nRep. Golrang "Rey" Garofano\, - Invited - Room 3
TZID:America/New_York
UID:20260127T160102Z-uidGen@richgoldman-357e73
END:VEVENT
BEGIN:VALARM
TRIGGER:-PT15M
ACTION:DISPLAY
DESCRIPTION:S. 172 - An act relating to requiring the use of personal flo
 tation devices during cold weather\n\nSen. Rebecca "Becca" White\, Spons
 or\n\nDamien Leonard\, Legislative Counsel\, Office of Legislative Couns
 el - Invited\n\nRep. Golrang "Rey" Garofano\, - Invited - Room 3
END:VALARM
END:VCALENDAR
