BEGIN:VCALENDAR
CALSCALE:GREGORIAN
PRODID:-//Ben Fortuna//iCal4j 1.0//EN
VERSION:2.0
BEGIN:VEVENT
DTSTAMP:20260125T210243Z
DTSTART:20260129T090000
DTEND:20260129T110000
SUMMARY:S. 197 - An act relating to establishing a primary care payment r
 eform program\n\nJennifer Carbee\, Deputy Chief Counsel\, Office of Legi
 slative Counsel\n\nJohn M. Saroyan\, M.D.\, Executive Director\, Bluepri
 nt for Health\, Agency of Human Services\n\nTom Borys\, CEO\, OneCare Ve
 rmont\n\nWayne Altman\, Professor and Chair of Family Medicine\, Tufts U
 niversity - Room 17
TZID:America/New_York
UID:20260125T210245Z-uidGen@richgoldman-357e73
END:VEVENT
BEGIN:VALARM
TRIGGER:-PT15M
ACTION:DISPLAY
DESCRIPTION:S. 197 - An act relating to establishing a primary care payme
 nt reform program\n\nJennifer Carbee\, Deputy Chief Counsel\, Office of 
 Legislative Counsel\n\nJohn M. Saroyan\, M.D.\, Executive Director\, Blu
 eprint for Health\, Agency of Human Services\n\nTom Borys\, CEO\, OneCar
 e Vermont\n\nWayne Altman\, Professor and Chair of Family Medicine\, Tuf
 ts University - Room 17
END:VALARM
END:VCALENDAR
