BEGIN:VCALENDAR
CALSCALE:GREGORIAN
PRODID:-//Ben Fortuna//iCal4j 1.0//EN
VERSION:2.0
BEGIN:VEVENT
DTSTAMP:20260126T180014Z
DTSTART:20260129T090000
DTEND:20260129T110000
SUMMARY:Mental Health Advocacy Day\n\nDelaina Norton\, Executive Director
 \, Champlain Community Services\n\nBeth Sightler\, Executive Director\, 
 Washington County Mental Health Services - Room 46
TZID:America/New_York
UID:20260126T180037Z-uidGen@richgoldman-357e73
END:VEVENT
BEGIN:VALARM
TRIGGER:-PT15M
ACTION:DISPLAY
DESCRIPTION:Mental Health Advocacy Day\n\nDelaina Norton\, Executive Dire
 ctor\, Champlain Community Services\n\nBeth Sightler\, Executive Directo
 r\, Washington County Mental Health Services - Room 46
END:VALARM
END:VCALENDAR
