BEGIN:VCALENDAR
CALSCALE:GREGORIAN
PRODID:-//Ben Fortuna//iCal4j 1.0//EN
VERSION:2.0
BEGIN:VEVENT
DTSTAMP:20260127T160015Z
DTSTART:20260129T090000
DTEND:20260129T110000
SUMMARY:26-0743 - An act relating to miscellaneous amendments to laws rel
 ating to motor vehicles\n\nKEI Trucks\n\nRich Sabella\, Resident\, Ferri
 sburgh - Invited - Room 3
TZID:America/New_York
UID:20260127T160100Z-uidGen@richgoldman-357e73
END:VEVENT
BEGIN:VALARM
TRIGGER:-PT15M
ACTION:DISPLAY
DESCRIPTION:26-0743 - An act relating to miscellaneous amendments to laws
  relating to motor vehicles\n\nKEI Trucks\n\nRich Sabella\, Resident\, F
 errisburgh - Invited - Room 3
END:VALARM
END:VCALENDAR
