BEGIN:VCALENDAR
CALSCALE:GREGORIAN
PRODID:-//Ben Fortuna//iCal4j 1.0//EN
VERSION:2.0
BEGIN:VEVENT
DTSTAMP:20260125T060514Z
DTSTART:20260129T090000
DTEND:20260129T110000
SUMMARY:University of Vermont President\n\nIntroduction to the Committee\
 n\nMarlene Tromp\, Dr\, President\, University of Vermont - Invited - Ro
 om 35
TZID:America/New_York
UID:20260125T061416Z-uidGen@richgoldman-357e73
END:VEVENT
BEGIN:VALARM
TRIGGER:-PT15M
ACTION:DISPLAY
DESCRIPTION:University of Vermont President\n\nIntroduction to the Commit
 tee\n\nMarlene Tromp\, Dr\, President\, University of Vermont - Invited 
 - Room 35
END:VALARM
END:VCALENDAR
