BEGIN:VCALENDAR
CALSCALE:GREGORIAN
PRODID:-//Ben Fortuna//iCal4j 1.0//EN
VERSION:2.0
BEGIN:VEVENT
DTSTAMP:20260128T190014Z
DTSTART:20260129T090000
DTEND:20260129T110000
SUMMARY:Committee Meeting - Room 35
TZID:America/New_York
UID:20260128T190033Z-uidGen@richgoldman-357e73
END:VEVENT
BEGIN:VALARM
TRIGGER:-PT15M
ACTION:DISPLAY
DESCRIPTION:Committee Meeting - Room 35
END:VALARM
END:VCALENDAR
