BEGIN:VCALENDAR
CALSCALE:GREGORIAN
PRODID:-//Ben Fortuna//iCal4j 1.0//EN
VERSION:2.0
BEGIN:VEVENT
DTSTAMP:20260125T060514Z
DTSTART:20260129T090000
DTEND:20260129T110000
SUMMARY:Field Trip\n\nVisit to 1787 Butchery - VTSU Randolph and the VAEL
  Weights and Measures Lab\n\nDeMetris Reed\, Meat Facility Director\, Ce
 nter for Agriculture and Food Entrepreneurship\, Vermont State Universit
 y\n\nMarc Paquette\, Chief\, Weights and Measures\, Vermont Agency of Ag
 riculture\, Food and Markets - Room 49
TZID:America/New_York
UID:20260125T061412Z-uidGen@richgoldman-357e73
END:VEVENT
BEGIN:VALARM
TRIGGER:-PT15M
ACTION:DISPLAY
DESCRIPTION:Field Trip\n\nVisit to 1787 Butchery - VTSU Randolph and the 
 VAEL Weights and Measures Lab\n\nDeMetris Reed\, Meat Facility Director\
 , Center for Agriculture and Food Entrepreneurship\, Vermont State Unive
 rsity\n\nMarc Paquette\, Chief\, Weights and Measures\, Vermont Agency o
 f Agriculture\, Food and Markets - Room 49
END:VALARM
END:VCALENDAR
