BEGIN:VCALENDAR
CALSCALE:GREGORIAN
PRODID:-//Ben Fortuna//iCal4j 1.0//EN
VERSION:2.0
BEGIN:VEVENT
DTSTAMP:20260125T060514Z
DTSTART:20260129T090000
DTEND:20260129T110000
SUMMARY:Mental Health Advocacy Day\n\nLindsey St.Amour\, Exective Directo
 r\, Disability Rights Vermont\n\nKahlia Livingston\, Fair Housing Projec
 t Education & Outreach Coordinator\, Champlain Valley Office of Economic
  Opportunity (CVOEO)\n\nGloria Quinn\, Executive Director\, Upper Valley
  Services - Zoom - Room 31
TZID:America/New_York
UID:20260125T061425Z-uidGen@richgoldman-357e73
END:VEVENT
BEGIN:VALARM
TRIGGER:-PT15M
ACTION:DISPLAY
DESCRIPTION:Mental Health Advocacy Day\n\nLindsey St.Amour\, Exective Dir
 ector\, Disability Rights Vermont\n\nKahlia Livingston\, Fair Housing Pr
 oject Education & Outreach Coordinator\, Champlain Valley Office of Econ
 omic Opportunity (CVOEO)\n\nGloria Quinn\, Executive Director\, Upper Va
 lley Services - Zoom - Room 31
END:VALARM
END:VCALENDAR
