BEGIN:VCALENDAR
CALSCALE:GREGORIAN
PRODID:-//Ben Fortuna//iCal4j 1.0//EN
VERSION:2.0
BEGIN:VEVENT
DTSTAMP:20260126T150030Z
DTSTART:20260129T090000
DTEND:20260129T110000
SUMMARY:Mental Health Advocacy Day\n\nThe value of low barrier peer based
  mental health support and mental health urgent care programs\n\nKathlee
 n Kilbourne\, Events and Fundraising Coordinator\, NAMI Vermont\n\nPheon
 ix Crockett\, Managing Director\, Me2\n\nAlexander Smith\, Director\, Ad
 ult Mental Health Services\, Counseling Services of Addison County - Roo
 m 42
TZID:America/New_York
UID:20260126T150044Z-uidGen@richgoldman-357e73
END:VEVENT
BEGIN:VALARM
TRIGGER:-PT15M
ACTION:DISPLAY
DESCRIPTION:Mental Health Advocacy Day\n\nThe value of low barrier peer b
 ased mental health support and mental health urgent care programs\n\nKat
 hleen Kilbourne\, Events and Fundraising Coordinator\, NAMI Vermont\n\nP
 heonix Crockett\, Managing Director\, Me2\n\nAlexander Smith\, Director\
 , Adult Mental Health Services\, Counseling Services of Addison County -
  Room 42
END:VALARM
END:VCALENDAR
