BEGIN:VCALENDAR
CALSCALE:GREGORIAN
PRODID:-//Ben Fortuna//iCal4j 1.0//EN
VERSION:2.0
BEGIN:VEVENT
DTSTAMP:20260125T060514Z
DTSTART:20260129T090000
DTEND:20260129T110000
SUMMARY:FY27 Budget\n\nEstate Tax\n\nPatrick Titterton\, Senior Fiscal An
 alyst\, Joint Fiscal Office - Room 45
TZID:America/New_York
UID:20260125T061436Z-uidGen@richgoldman-357e73
END:VEVENT
BEGIN:VALARM
TRIGGER:-PT15M
ACTION:DISPLAY
DESCRIPTION:FY27 Budget\n\nEstate Tax\n\nPatrick Titterton\, Senior Fisca
 l Analyst\, Joint Fiscal Office - Room 45
END:VALARM
END:VCALENDAR
