BEGIN:VCALENDAR
CALSCALE:GREGORIAN
PRODID:-//Ben Fortuna//iCal4j 1.0//EN
VERSION:2.0
BEGIN:VEVENT
DTSTAMP:20260127T150030Z
DTSTART:20260129T090000
DTEND:20260129T110000
SUMMARY:Agency of Transportation FY27 Budget\n\nHighway Projects and Adju
 stments\n\nJeremy Reed\, Chief Engineer of the Highway Division\, Agency
  of Transportation - Room 43
TZID:America/New_York
UID:20260127T150115Z-uidGen@richgoldman-357e73
END:VEVENT
BEGIN:VALARM
TRIGGER:-PT15M
ACTION:DISPLAY
DESCRIPTION:Agency of Transportation FY27 Budget\n\nHighway Projects and 
 Adjustments\n\nJeremy Reed\, Chief Engineer of the Highway Division\, Ag
 ency of Transportation - Room 43
END:VALARM
END:VCALENDAR
