BEGIN:VCALENDAR
CALSCALE:GREGORIAN
PRODID:-//Ben Fortuna//iCal4j 1.0//EN
VERSION:2.0
BEGIN:VEVENT
DTSTAMP:20260125T060514Z
DTSTART:20260129T083000
DTEND:20260129T103000
SUMMARY:Capital Budget Adjustment\n\nSection 12 - VAEL heat pump and Big 
 E\n\nCheryl Achilles\, Director\, Vermont Agriculture and Environmental 
 Laboratory\, Agency of Agriculture\, Food and Markets\n\nTrevor Lowell\,
  Assistant Director\, Agency of Agriculture\, Food and Markets\n\nJoe Aj
 a\, Director Design & Construction\, Department of Buildings and General
  Services\n\nJessica Thyme\, Project Manager\, Buildings and General Ser
 vices - Room 34
TZID:America/New_York
UID:20260125T061411Z-uidGen@richgoldman-357e73
END:VEVENT
BEGIN:VALARM
TRIGGER:-PT15M
ACTION:DISPLAY
DESCRIPTION:Capital Budget Adjustment\n\nSection 12 - VAEL heat pump and 
 Big E\n\nCheryl Achilles\, Director\, Vermont Agriculture and Environmen
 tal Laboratory\, Agency of Agriculture\, Food and Markets\n\nTrevor Lowe
 ll\, Assistant Director\, Agency of Agriculture\, Food and Markets\n\nJo
 e Aja\, Director Design & Construction\, Department of Buildings and Gen
 eral Services\n\nJessica Thyme\, Project Manager\, Buildings and General
  Services - Room 34
END:VALARM
END:VCALENDAR
