BEGIN:VCALENDAR
CALSCALE:GREGORIAN
PRODID:-//Ben Fortuna//iCal4j 1.0//EN
VERSION:2.0
BEGIN:VEVENT
DTSTAMP:20260125T060514Z
DTSTART:20260129T093000
DTEND:20260129T113000
SUMMARY:Vermont Community Broadband Board Annual Report Overview\n\nChris
 tine Hallquist\, Executive Director\, Vermont Community Broadband Board 
 - Room 32
TZID:America/New_York
UID:20260125T061452Z-uidGen@richgoldman-357e73
END:VEVENT
BEGIN:VALARM
TRIGGER:-PT15M
ACTION:DISPLAY
DESCRIPTION:Vermont Community Broadband Board Annual Report Overview\n\nC
 hristine Hallquist\, Executive Director\, Vermont Community Broadband Bo
 ard - Room 32
END:VALARM
END:VCALENDAR
