BEGIN:VCALENDAR
CALSCALE:GREGORIAN
PRODID:-//Ben Fortuna//iCal4j 1.0//EN
VERSION:2.0
BEGIN:VEVENT
DTSTAMP:20260125T060514Z
DTSTART:20260129T090000
DTEND:20260129T110000
SUMMARY:Vermont Communication Union Districts\n\nUpdate and Overview\n\nE
 llie de Villiers\, Vermont Communications Union Districts Association\n\
 nChrista Shute\, Executive Director\, NEK Broadband - Room 32
TZID:America/New_York
UID:20260125T061420Z-uidGen@richgoldman-357e73
END:VEVENT
BEGIN:VALARM
TRIGGER:-PT15M
ACTION:DISPLAY
DESCRIPTION:Vermont Communication Union Districts\n\nUpdate and Overview\
 n\nEllie de Villiers\, Vermont Communications Union Districts Associatio
 n\n\nChrista Shute\, Executive Director\, NEK Broadband - Room 32
END:VALARM
END:VCALENDAR
