BEGIN:VCALENDAR
CALSCALE:GREGORIAN
PRODID:-//Ben Fortuna//iCal4j 1.0//EN
VERSION:2.0
BEGIN:VEVENT
DTSTAMP:20260126T210017Z
DTSTART:20260128T153000
DTEND:20260128T173000
SUMMARY:FY27 Budget\n\nState Auditor's Office\n\nDoug Hoffer\, State Audi
 tor\, State Auditor's Office - Room 9
TZID:America/New_York
UID:20260126T210032Z-uidGen@richgoldman-357e73
END:VEVENT
BEGIN:VALARM
TRIGGER:-PT15M
ACTION:DISPLAY
DESCRIPTION:FY27 Budget\n\nState Auditor's Office\n\nDoug Hoffer\, State 
 Auditor\, State Auditor's Office - Room 9
END:VALARM
END:VCALENDAR
