BEGIN:VCALENDAR
CALSCALE:GREGORIAN
PRODID:-//Ben Fortuna//iCal4j 1.0//EN
VERSION:2.0
BEGIN:VEVENT
DTSTAMP:20260125T060514Z
DTSTART:20260128T150000
DTEND:20260128T170000
SUMMARY:Budget Process\n\nJames Duffy\, Fiscal Analyst\, Joint Fiscal Off
 ice - Invited - Room EA
TZID:America/New_York
UID:20260125T061318Z-uidGen@richgoldman-357e73
END:VEVENT
BEGIN:VALARM
TRIGGER:-PT15M
ACTION:DISPLAY
DESCRIPTION:Budget Process\n\nJames Duffy\, Fiscal Analyst\, Joint Fiscal
  Office - Invited - Room EA
END:VALARM
END:VCALENDAR
