BEGIN:VCALENDAR
CALSCALE:GREGORIAN
PRODID:-//Ben Fortuna//iCal4j 1.0//EN
VERSION:2.0
BEGIN:VEVENT
DTSTAMP:20260126T160014Z
DTSTART:20260128T150000
DTEND:20260128T170000
SUMMARY:H. 276 - An act relating to the designation of State wildlands\n\
 nJustin Lindholm\, Logger and Hunting Guide - Room EA
TZID:America/New_York
UID:20260126T160030Z-uidGen@richgoldman-357e73
END:VEVENT
BEGIN:VALARM
TRIGGER:-PT15M
ACTION:DISPLAY
DESCRIPTION:H. 276 - An act relating to the designation of State wildland
 s\n\nJustin Lindholm\, Logger and Hunting Guide - Room EA
END:VALARM
END:VCALENDAR
