BEGIN:VCALENDAR
CALSCALE:GREGORIAN
PRODID:-//Ben Fortuna//iCal4j 1.0//EN
VERSION:2.0
BEGIN:VEVENT
DTSTAMP:20260126T220014Z
DTSTART:20260128T151500
DTEND:20260128T171500
SUMMARY:TBA - Room 28
TZID:America/New_York
UID:20260126T220015Z-uidGen@richgoldman-357e73
END:VEVENT
BEGIN:VALARM
TRIGGER:-PT15M
ACTION:DISPLAY
DESCRIPTION:TBA - Room 28
END:VALARM
END:VCALENDAR
